Package: RDRToolbox Version: 1.60.0 Command: /Library/Frameworks/R.framework/Resources/bin/R CMD build --keep-empty-dirs --no-resave-data RDRToolbox StartedAt: 2025-11-03 18:24:37 -0500 (Mon, 03 Nov 2025) EndedAt: 2025-11-03 18:24:56 -0500 (Mon, 03 Nov 2025) EllapsedTime: 19.5 seconds RetCode: 0 Status: OK PackageFile: RDRToolbox_1.60.0.tar.gz PackageFileSize: 189.9 KiB