Package: RDRToolbox Version: 1.60.0 Command: /Library/Frameworks/R.framework/Resources/bin/R CMD INSTALL RDRToolbox StartedAt: 2025-10-31 15:07:44 -0400 (Fri, 31 Oct 2025) EndedAt: 2025-10-31 15:08:04 -0400 (Fri, 31 Oct 2025) EllapsedTime: 19.9 seconds RetCode: 0 Status: OK