Package: RDRToolbox Version: 1.60.0 Command: /Library/Frameworks/R.framework/Resources/bin/R CMD build --keep-empty-dirs --no-resave-data RDRToolbox StartedAt: 2025-10-31 17:31:53 -0400 (Fri, 31 Oct 2025) EndedAt: 2025-10-31 17:32:01 -0400 (Fri, 31 Oct 2025) EllapsedTime: 8.1 seconds RetCode: 0 Status: OK PackageFile: RDRToolbox_1.60.0.tar.gz PackageFileSize: 190.4 KiB