Package: RDRToolbox Version: 1.60.0 Command: rm -rf RDRToolbox.buildbin-libdir && mkdir RDRToolbox.buildbin-libdir && /Users/biocbuild/BBS/utils/build-universal.sh RDRToolbox_1.60.0.tar.gz /Library/Frameworks/R.framework/Resources/bin/R RDRToolbox.buildbin-libdir StartedAt: 2025-10-31 23:19:50 -0400 (Fri, 31 Oct 2025) EndedAt: 2025-10-31 23:19:52 -0400 (Fri, 31 Oct 2025) EllapsedTime: 2.0 seconds RetCode: 0 Status: OK PackageFile: RDRToolbox_1.60.0.tgz PackageFileSize: 188.4 KiB