Package: RCyjs Version: 2.32.0 Command: /home/biocbuild/bbs-3.22-bioc/R/bin/R CMD INSTALL RCyjs StartedAt: 2025-11-17 17:15:38 -0500 (Mon, 17 Nov 2025) EndedAt: 2025-11-17 17:15:44 -0500 (Mon, 17 Nov 2025) EllapsedTime: 6.6 seconds RetCode: 0 Status: OK