Package: RCX Version: 1.13.1 Command: /home/biocbuild/bbs-3.22-bioc/R/bin/R CMD build --keep-empty-dirs --no-resave-data --md5 RCX StartedAt: 2025-10-27 19:33:32 -0400 (Mon, 27 Oct 2025) EndedAt: 2025-10-27 19:33:54 -0400 (Mon, 27 Oct 2025) EllapsedTime: 22.0 seconds RetCode: 0 Status: OK PackageFile: RCX_1.13.1.tar.gz PackageFileSize: 4.58 MiB