Package: RCM Version: 1.25.2 Command: /home/biocbuild/bbs-3.22-bioc/R/bin/R CMD INSTALL RCM StartedAt: 2025-10-28 15:17:00 -0400 (Tue, 28 Oct 2025) EndedAt: 2025-10-28 15:17:24 -0400 (Tue, 28 Oct 2025) EllapsedTime: 24.1 seconds RetCode: 0 Status: OK