Package: RCM Version: 1.25.2 Command: /home/biocbuild/bbs-3.22-bioc/R/bin/R CMD build --keep-empty-dirs --no-resave-data --md5 RCM StartedAt: 2025-10-28 19:31:09 -0400 (Tue, 28 Oct 2025) EndedAt: 2025-10-28 19:32:52 -0400 (Tue, 28 Oct 2025) EllapsedTime: 103.1 seconds RetCode: 0 Status: OK PackageFile: RCM_1.25.2.tar.gz PackageFileSize: 4.163 MiB