Package: RCASPAR Version: 1.55.0 Command: /home/biocbuild/bbs-3.22-bioc/R/bin/R CMD build --keep-empty-dirs --no-resave-data --md5 RCASPAR StartedAt: 2025-10-24 19:40:45 -0400 (Fri, 24 Oct 2025) EndedAt: 2025-10-24 19:40:51 -0400 (Fri, 24 Oct 2025) EllapsedTime: 6.0 seconds RetCode: 0 Status: OK PackageFile: RCASPAR_1.55.0.tar.gz PackageFileSize: 306.9 KiB