Package: RCAS Version: 1.35.0 Command: /home/biocbuild/bbs-3.22-bioc/R/bin/R CMD INSTALL RCAS StartedAt: 2025-10-24 15:50:30 -0400 (Fri, 24 Oct 2025) EndedAt: 2025-10-24 15:51:17 -0400 (Fri, 24 Oct 2025) EllapsedTime: 46.7 seconds RetCode: 0 Status: OK