Package: RCAS Version: 1.35.0 Command: /home/biocbuild/bbs-3.22-bioc/R/bin/R CMD build --keep-empty-dirs --no-resave-data --md5 RCAS StartedAt: 2025-10-24 19:40:43 -0400 (Fri, 24 Oct 2025) EndedAt: 2025-10-24 19:43:16 -0400 (Fri, 24 Oct 2025) EllapsedTime: 153.2 seconds RetCode: 0 Status: OK PackageFile: RCAS_1.35.0.tar.gz PackageFileSize: 1.511 MiB