Package: RBioFormats Version: 1.10.0 Command: /Library/Frameworks/R.framework/Resources/bin/R CMD build --keep-empty-dirs --no-resave-data RBioFormats StartedAt: 2025-11-10 17:27:30 -0500 (Mon, 10 Nov 2025) EndedAt: 2025-11-10 17:27:39 -0500 (Mon, 10 Nov 2025) EllapsedTime: 8.1 seconds RetCode: 0 Status: OK PackageFile: RBioFormats_1.10.0.tar.gz PackageFileSize: 321.5 KiB