Package: R4RNA Version: 1.38.0 Command: /home/biocbuild/bbs-3.22-bioc/R/bin/R CMD build --keep-empty-dirs --no-resave-data --md5 R4RNA StartedAt: 2025-10-31 19:38:43 -0400 (Fri, 31 Oct 2025) EndedAt: 2025-10-31 19:39:00 -0400 (Fri, 31 Oct 2025) EllapsedTime: 17.0 seconds RetCode: 0 Status: OK PackageFile: R4RNA_1.38.0.tar.gz PackageFileSize: 907.9 KiB