Package: R453Plus1Toolbox Version: 1.60.0 Command: /home/biocbuild/bbs-3.22-bioc/R/bin/R CMD INSTALL R453Plus1Toolbox StartedAt: 2025-10-31 16:03:22 -0400 (Fri, 31 Oct 2025) EndedAt: 2025-10-31 16:04:31 -0400 (Fri, 31 Oct 2025) EllapsedTime: 68.8 seconds RetCode: 0 Status: OK