Package: R453Plus1Toolbox Version: 1.60.0 Command: /home/biocbuild/bbs-3.22-bioc/R/bin/R CMD build --keep-empty-dirs --no-resave-data --md5 R453Plus1Toolbox StartedAt: 2025-10-31 19:38:28 -0400 (Fri, 31 Oct 2025) EndedAt: 2025-10-31 19:39:52 -0400 (Fri, 31 Oct 2025) EllapsedTime: 84.1 seconds RetCode: 1 Status: ERROR PackageFile: None PackageFileSize: NA