Package: R453Plus1Toolbox Version: 1.60.0 Command: /Library/Frameworks/R.framework/Resources/bin/R CMD INSTALL R453Plus1Toolbox StartedAt: 2025-11-03 15:27:24 -0500 (Mon, 03 Nov 2025) EndedAt: 2025-11-03 15:27:51 -0500 (Mon, 03 Nov 2025) EllapsedTime: 27.3 seconds RetCode: 0 Status: OK