Package: R3CPET Version: 1.42.0 Command: /home/biocbuild/bbs-3.22-bioc/R/bin/R CMD INSTALL R3CPET StartedAt: 2025-11-06 15:47:05 -0500 (Thu, 06 Nov 2025) EndedAt: 2025-11-06 15:48:19 -0500 (Thu, 06 Nov 2025) EllapsedTime: 74.0 seconds RetCode: 0 Status: OK