Package: R3CPET Version: 1.42.0 Command: /home/biocbuild/bbs-3.22-bioc/R/bin/R CMD build --keep-empty-dirs --no-resave-data --md5 R3CPET StartedAt: 2025-11-06 19:28:28 -0500 (Thu, 06 Nov 2025) EndedAt: 2025-11-06 19:30:09 -0500 (Thu, 06 Nov 2025) EllapsedTime: 101.1 seconds RetCode: 0 Status: OK PackageFile: R3CPET_1.42.0.tar.gz PackageFileSize: 5.083 MiB