Package: QuaternaryProd Version: 1.44.0 Command: /Library/Frameworks/R.framework/Resources/bin/R CMD INSTALL QuaternaryProd StartedAt: 2025-11-03 15:15:22 -0500 (Mon, 03 Nov 2025) EndedAt: 2025-11-03 15:15:44 -0500 (Mon, 03 Nov 2025) EllapsedTime: 22.0 seconds RetCode: 0 Status: OK