Package: QuaternaryProd Version: 1.44.0 Command: /Library/Frameworks/R.framework/Resources/bin/R CMD build --keep-empty-dirs --no-resave-data QuaternaryProd StartedAt: 2025-11-03 18:21:31 -0500 (Mon, 03 Nov 2025) EndedAt: 2025-11-03 18:28:10 -0500 (Mon, 03 Nov 2025) EllapsedTime: 398.9 seconds RetCode: 0 Status: OK PackageFile: QuaternaryProd_1.44.0.tar.gz PackageFileSize: 10.75 MiB