Package: QuaternaryProd Version: 1.44.0 Command: rm -rf QuaternaryProd.buildbin-libdir && mkdir QuaternaryProd.buildbin-libdir && /Users/biocbuild/BBS/utils/build-universal.sh QuaternaryProd_1.44.0.tar.gz /Library/Frameworks/R.framework/Resources/bin/R QuaternaryProd.buildbin-libdir StartedAt: 2025-11-04 01:57:34 -0500 (Tue, 04 Nov 2025) EndedAt: 2025-11-04 01:57:59 -0500 (Tue, 04 Nov 2025) EllapsedTime: 25.4 seconds RetCode: 0 Status: OK PackageFile: QuaternaryProd_1.44.0.tgz PackageFileSize: 10.89 MiB