Package: QuaternaryProd Version: 1.43.0 Command: /Library/Frameworks/R.framework/Resources/bin/R CMD INSTALL QuaternaryProd StartedAt: 2025-10-26 15:04:58 -0400 (Sun, 26 Oct 2025) EndedAt: 2025-10-26 15:05:04 -0400 (Sun, 26 Oct 2025) EllapsedTime: 5.7 seconds RetCode: 0 Status: OK