Package: QuaternaryProd Version: 1.44.0 Command: /Library/Frameworks/R.framework/Resources/bin/R CMD INSTALL QuaternaryProd StartedAt: 2025-11-17 17:04:09 -0500 (Mon, 17 Nov 2025) EndedAt: 2025-11-17 17:04:14 -0500 (Mon, 17 Nov 2025) EllapsedTime: 5.5 seconds RetCode: 0 Status: OK