Package: QuaternaryProd Version: 1.44.0 Command: /Library/Frameworks/R.framework/Resources/bin/R CMD build --keep-empty-dirs --no-resave-data QuaternaryProd StartedAt: 2025-11-18 00:00:24 -0500 (Tue, 18 Nov 2025) EndedAt: 2025-11-18 00:03:03 -0500 (Tue, 18 Nov 2025) EllapsedTime: 159.6 seconds RetCode: 0 Status: OK PackageFile: QuaternaryProd_1.44.0.tar.gz PackageFileSize: 10.75 MiB