Package: QuasR Version: 1.49.3 Command: /home/biocbuild/bbs-3.22-bioc/R/bin/R CMD INSTALL QuasR StartedAt: 2025-10-28 15:56:30 -0400 (Tue, 28 Oct 2025) EndedAt: 2025-10-28 15:57:47 -0400 (Tue, 28 Oct 2025) EllapsedTime: 77.0 seconds RetCode: 0 Status: OK