Package: QuasR Version: 1.49.3 Command: /home/biocbuild/bbs-3.22-bioc/R/bin/R CMD build --keep-empty-dirs --no-resave-data --md5 QuasR StartedAt: 2025-10-27 19:28:28 -0400 (Mon, 27 Oct 2025) EndedAt: 2025-10-27 19:32:48 -0400 (Mon, 27 Oct 2025) EllapsedTime: 260.2 seconds RetCode: 0 Status: OK PackageFile: QuasR_1.49.3.tar.gz PackageFileSize: 2.438 MiB