Back to Multiple platform build/check report for BioC 3.22:   simplified   long
ABCDEFGHIJKLMNOP[Q]RSTUVWXYZ

This page was generated on 2025-10-25 12:02 -0400 (Sat, 25 Oct 2025).

HostnameOSArch (*)R versionInstalled pkgs
nebbiolo2Linux (Ubuntu 24.04.3 LTS)x86_644.5.1 Patched (2025-08-23 r88802) -- "Great Square Root" 4901
lconwaymacOS 12.7.6 Montereyx86_644.5.1 Patched (2025-09-10 r88807) -- "Great Square Root" 4691
kjohnson3macOS 13.7.7 Venturaarm644.5.1 Patched (2025-09-10 r88807) -- "Great Square Root" 4637
taishanLinux (openEuler 24.03 LTS)aarch644.5.0 (2025-04-11) -- "How About a Twenty-Six" 4658
Click on any hostname to see more info about the system (e.g. compilers)      (*) as reported by 'uname -p', except on Windows and Mac OS X

All results for package QFeatures


To the developers/maintainers of the QFeatures package:
- Allow up to 24 hours (and sometimes 48 hours) for your latest push to git@git.bioconductor.org:packages/QFeatures.git to reflect on this report. See Troubleshooting Build Report for more information.
- Use the following Renviron settings to reproduce errors and warnings.
- If 'R CMD check' started to fail recently on the Linux builder(s) over a missing dependency, add the missing dependency to 'Suggests:' in your DESCRIPTION file. See Renviron.bioc for more information.

raw results

Package 1675/2361HostnameOS / ArchINSTALLBUILDCHECKBUILD BIN
QFeatures 1.19.4  (landing page)
Laurent Gatto
Snapshot Date: 2025-10-24 13:45 -0400 (Fri, 24 Oct 2025)
git_url: https://git.bioconductor.org/packages/QFeatures
git_branch: devel
git_last_commit: 32ca21f
git_last_commit_date: 2025-10-22 08:57:34 -0400 (Wed, 22 Oct 2025)
nebbiolo2Linux (Ubuntu 24.04.3 LTS) / x86_64  OK    OK    OK  UNNEEDED, same version is already published
lconwaymacOS 12.7.6 Monterey / x86_64  OK    OK    OK    OK  UNNEEDED, same version is already published
kjohnson3macOS 13.7.7 Ventura / arm64  OK    OK    OK    OK  UNNEEDED, same version is already published
taishanLinux (openEuler 24.03 LTS) / aarch64  OK    NA    NA  



Results for Bioconductor software packages that depend directly on package QFeatures

QUICK STATSOS / ArchINSTALLBUILDCHECKBUILD BIN
nebbiolo2Linux (Ubuntu 24.04.3 LTS) / x86_64
008
008
0017
lconwaymacOS 12.7.6 Monterey / x86_64
008
008
0017
008
kjohnson3macOS 13.7.7 Ventura / arm64
008
008
0107
008
taishanLinux (openEuler 24.03 LTS) / aarch64
007
000
0000
Package 1/8HostnameOS / ArchINSTALLBUILDCHECKBUILD BIN
hdxmsqc 1.5.0  (landing page)
Oliver M. Crook
git_last_commit: dc90710
git_last_commit_date: 2025-04-15 13:33:19 -0400
nebbiolo2Linux (Ubuntu 24.04.3 LTS) / x86_64  OK    OK    OK  UNNEEDED, same version is already published
lconwaymacOS 12.7.6 Monterey / x86_64  OK    OK    OK    OK  UNNEEDED, same version is already published
kjohnson3macOS 13.7.7 Ventura / arm64  OK    OK    OK    OK  UNNEEDED, same version is already published
taishanLinux (openEuler 24.03 LTS) / aarch64  OK    NA    NA  
Package 2/8HostnameOS / ArchINSTALLBUILDCHECKBUILD BIN
MetaboAnnotation 1.13.3  (landing page)
Johannes Rainer
git_last_commit: 4df51a5
git_last_commit_date: 2025-10-16 08:26:18 -0400
nebbiolo2Linux (Ubuntu 24.04.3 LTS) / x86_64  OK    OK    OK  UNNEEDED, same version is already published
lconwaymacOS 12.7.6 Monterey / x86_64  OK    OK    OK    OK  UNNEEDED, same version is already published
kjohnson3macOS 13.7.7 Ventura / arm64  OK    OK    OK    OK  UNNEEDED, same version is already published
taishanLinux (openEuler 24.03 LTS) / aarch64  OK    NA    NA  
Package 3/8HostnameOS / ArchINSTALLBUILDCHECKBUILD BIN
MsExperiment 1.11.1  (landing page)
Laurent Gatto
git_last_commit: 2540e62
git_last_commit_date: 2025-06-04 02:29:16 -0400
nebbiolo2Linux (Ubuntu 24.04.3 LTS) / x86_64  OK    OK    OK  UNNEEDED, same version is already published
lconwaymacOS 12.7.6 Monterey / x86_64  OK    OK    OK    OK  UNNEEDED, same version is already published
kjohnson3macOS 13.7.7 Ventura / arm64  OK    OK    OK    OK  UNNEEDED, same version is already published
taishanLinux (openEuler 24.03 LTS) / aarch64  OK    NA    NA  
Package 4/8HostnameOS / ArchINSTALLBUILDCHECKBUILD BIN
mspms 1.1.0  (landing page)
Charlie Bayne
git_last_commit: cbab18f
git_last_commit_date: 2025-04-15 13:43:54 -0400
nebbiolo2Linux (Ubuntu 24.04.3 LTS) / x86_64  OK    OK    OK  UNNEEDED, same version is already published
lconwaymacOS 12.7.6 Monterey / x86_64  OK    OK    OK    OK  UNNEEDED, same version is already published
kjohnson3macOS 13.7.7 Ventura / arm64  OK    OK    OK    OK  UNNEEDED, same version is already published
taishanLinux (openEuler 24.03 LTS) / aarch64  OK    NA    NA  
Package 5/8HostnameOS / ArchINSTALLBUILDCHECKBUILD BIN
msqrob2 1.17.1  (landing page)
Lieven Clement
git_last_commit: 34cf9b7
git_last_commit_date: 2025-06-30 11:30:20 -0400
nebbiolo2Linux (Ubuntu 24.04.3 LTS) / x86_64  OK    OK    OK  UNNEEDED, same version is already published
lconwaymacOS 12.7.6 Monterey / x86_64  OK    OK    OK    OK  UNNEEDED, same version is already published
kjohnson3macOS 13.7.7 Ventura / arm64  OK    OK    OK    OK  UNNEEDED, same version is already published
taishanLinux (openEuler 24.03 LTS) / aarch64  OK    NA    NA  
Package 6/8HostnameOS / ArchINSTALLBUILDCHECKBUILD BIN
omicsGMF 0.99.7  (landing page)
Alexandre Segers
git_last_commit: 14caf2e
git_last_commit_date: 2025-10-21 17:03:34 -0400
nebbiolo2Linux (Ubuntu 24.04.3 LTS) / x86_64  OK    OK    OK  YES
lconwaymacOS 12.7.6 Monterey / x86_64  OK    OK    OK    OK  YES
kjohnson3macOS 13.7.7 Ventura / arm64  OK    OK    OK    OK  YES
taishanLinux (openEuler 24.03 LTS) / aarch64  NA    NA    NA  
Package 7/8HostnameOS / ArchINSTALLBUILDCHECKBUILD BIN
PSMatch 1.13.2  (landing page)
Laurent Gatto
git_last_commit: 1542556
git_last_commit_date: 2025-08-01 04:29:54 -0400
nebbiolo2Linux (Ubuntu 24.04.3 LTS) / x86_64  OK    OK    OK  UNNEEDED, same version is already published
lconwaymacOS 12.7.6 Monterey / x86_64  OK    OK    OK    OK  UNNEEDED, same version is already published
kjohnson3macOS 13.7.7 Ventura / arm64  OK    OK    OK    OK  UNNEEDED, same version is already published
taishanLinux (openEuler 24.03 LTS) / aarch64  OK    NA    NA  
Package 8/8HostnameOS / ArchINSTALLBUILDCHECKBUILD BIN
scp 1.19.5  (landing page)
Christophe Vanderaa
git_last_commit: 3ef39c3
git_last_commit_date: 2025-10-14 16:15:34 -0400
nebbiolo2Linux (Ubuntu 24.04.3 LTS) / x86_64  OK    OK    WARNINGS  UNNEEDED, same version is already published
lconwaymacOS 12.7.6 Monterey / x86_64  OK    OK    WARNINGS    OK  UNNEEDED, same version is already published
kjohnson3macOS 13.7.7 Ventura / arm64  OK    OK    ERROR    OK  
taishanLinux (openEuler 24.03 LTS) / aarch64  OK    NA    NA