Package: QDNAseq Version: 1.46.0 Command: /home/biocbuild/bbs-3.22-bioc/R/bin/R CMD INSTALL QDNAseq StartedAt: 2025-11-14 15:17:20 -0500 (Fri, 14 Nov 2025) EndedAt: 2025-11-14 15:17:37 -0500 (Fri, 14 Nov 2025) EllapsedTime: 17.9 seconds RetCode: 0 Status: OK