Package: PureCN Version: 2.16.0 Command: /home/biocbuild/bbs-3.22-bioc/R/bin/R CMD INSTALL PureCN StartedAt: 2025-11-17 17:57:32 -0500 (Mon, 17 Nov 2025) EndedAt: 2025-11-17 17:58:22 -0500 (Mon, 17 Nov 2025) EllapsedTime: 49.8 seconds RetCode: 0 Status: OK