Package: PureCN Version: 2.16.0 Command: /home/biocbuild/bbs-3.22-bioc/R/bin/R CMD build --keep-empty-dirs --no-resave-data --md5 PureCN StartedAt: 2025-11-17 22:51:13 -0500 (Mon, 17 Nov 2025) EndedAt: 2025-11-17 22:55:20 -0500 (Mon, 17 Nov 2025) EllapsedTime: 246.2 seconds RetCode: 0 Status: OK PackageFile: PureCN_2.16.0.tar.gz PackageFileSize: 5.73 MiB