Package: ProtGenerics Version: 1.41.0 Command: /home/biocbuild/bbs-3.22-bioc/R/bin/R CMD INSTALL ProtGenerics StartedAt: 2025-10-24 15:13:07 -0400 (Fri, 24 Oct 2025) EndedAt: 2025-10-24 15:13:20 -0400 (Fri, 24 Oct 2025) EllapsedTime: 12.8 seconds RetCode: 0 Status: OK