Package: ProtGenerics Version: 1.42.0 Command: /Library/Frameworks/R.framework/Resources/bin/R CMD INSTALL ProtGenerics StartedAt: 2025-11-03 15:09:33 -0500 (Mon, 03 Nov 2025) EndedAt: 2025-11-03 15:10:13 -0500 (Mon, 03 Nov 2025) EllapsedTime: 40.2 seconds RetCode: 0 Status: OK