Package: ProtGenerics Version: 1.42.0 Command: /Library/Frameworks/R.framework/Resources/bin/R CMD INSTALL ProtGenerics StartedAt: 2025-11-06 15:01:43 -0500 (Thu, 06 Nov 2025) EndedAt: 2025-11-06 15:01:48 -0500 (Thu, 06 Nov 2025) EllapsedTime: 4.8 seconds RetCode: 0 Status: OK