Package: ProtGenerics Version: 1.42.0 Command: /Library/Frameworks/R.framework/Resources/bin/R CMD build --keep-empty-dirs --no-resave-data ProtGenerics StartedAt: 2025-11-17 23:57:22 -0500 (Mon, 17 Nov 2025) EndedAt: 2025-11-17 23:57:23 -0500 (Mon, 17 Nov 2025) EllapsedTime: 1.0 seconds RetCode: 0 Status: OK PackageFile: ProtGenerics_1.42.0.tar.gz PackageFileSize: 10.89 KiB