Package: Prostar Version: 1.41.0 Command: /home/biocbuild/bbs-3.22-bioc/R/bin/R CMD INSTALL Prostar StartedAt: 2025-10-27 15:45:03 -0400 (Mon, 27 Oct 2025) EndedAt: 2025-10-27 15:45:43 -0400 (Mon, 27 Oct 2025) EllapsedTime: 40.1 seconds RetCode: 0 Status: OK