Package: PrInCE Version: 1.25.0 Command: /home/biocbuild/bbs-3.22-bioc/R/bin/R CMD INSTALL PrInCE StartedAt: 2025-10-27 15:47:53 -0400 (Mon, 27 Oct 2025) EndedAt: 2025-10-27 15:48:49 -0400 (Mon, 27 Oct 2025) EllapsedTime: 55.9 seconds RetCode: 0 Status: OK