Package: Polytect Version: 1.2.0 Command: /home/biocbuild/bbs-3.22-bioc/R/bin/R CMD INSTALL Polytect StartedAt: 2025-11-09 15:10:15 -0500 (Sun, 09 Nov 2025) EndedAt: 2025-11-09 15:10:25 -0500 (Sun, 09 Nov 2025) EllapsedTime: 9.9 seconds RetCode: 0 Status: OK