Package: PolySTest Version: 1.4.0 Command: /Library/Frameworks/R.framework/Resources/bin/R CMD build --keep-empty-dirs --no-resave-data PolySTest StartedAt: 2025-11-10 17:22:41 -0500 (Mon, 10 Nov 2025) EndedAt: 2025-11-10 17:23:25 -0500 (Mon, 10 Nov 2025) EllapsedTime: 43.5 seconds RetCode: 0 Status: OK PackageFile: PolySTest_1.4.0.tar.gz PackageFileSize: 2.14 MiB