Package: Pigengene Version: 1.36.0 Command: /home/biocbuild/bbs-3.22-bioc/R/bin/R CMD INSTALL Pigengene StartedAt: 2025-11-16 15:53:40 -0500 (Sun, 16 Nov 2025) EndedAt: 2025-11-16 15:54:11 -0500 (Sun, 16 Nov 2025) EllapsedTime: 31.1 seconds RetCode: 0 Status: OK