Package: Pigengene Version: 1.36.0 Command: /home/biocbuild/bbs-3.22-bioc/R/bin/R CMD build --keep-empty-dirs --no-resave-data --md5 Pigengene StartedAt: 2025-11-16 19:26:13 -0500 (Sun, 16 Nov 2025) EndedAt: 2025-11-16 19:29:12 -0500 (Sun, 16 Nov 2025) EllapsedTime: 179.2 seconds RetCode: 0 Status: OK PackageFile: Pigengene_1.36.0.tar.gz PackageFileSize: 2.701 MiB