Package: PhyloProfile Version: 2.2.2 Command: /home/biocbuild/bbs-3.22-bioc/R/bin/R CMD INSTALL PhyloProfile StartedAt: 2025-11-25 15:41:27 -0500 (Tue, 25 Nov 2025) EndedAt: 2025-11-25 15:41:49 -0500 (Tue, 25 Nov 2025) EllapsedTime: 21.6 seconds RetCode: 0 Status: OK