Package: PhyloProfile Version: 2.2.2 Command: /home/biocbuild/bbs-3.22-bioc/R/bin/R CMD build --keep-empty-dirs --no-resave-data --md5 PhyloProfile StartedAt: 2025-11-25 19:48:05 -0500 (Tue, 25 Nov 2025) EndedAt: 2025-11-25 19:48:43 -0500 (Tue, 25 Nov 2025) EllapsedTime: 38.0 seconds RetCode: 0 Status: OK PackageFile: PhyloProfile_2.2.2.tar.gz PackageFileSize: 1.434 MiB