Package: PhenStat Version: 2.46.0 Command: /home/biocbuild/bbs-3.22-bioc/R/bin/R CMD INSTALL PhenStat StartedAt: 2025-11-14 16:10:40 -0500 (Fri, 14 Nov 2025) EndedAt: 2025-11-14 16:10:40 -0500 (Fri, 14 Nov 2025) EllapsedTime: 0.2 seconds RetCode: 1 Status: ERROR