Package: PharmacoGx Version: 3.14.0 Command: /home/biocbuild/bbs-3.22-bioc/R/bin/R CMD INSTALL PharmacoGx StartedAt: 2025-11-17 17:33:19 -0500 (Mon, 17 Nov 2025) EndedAt: 2025-11-17 17:34:10 -0500 (Mon, 17 Nov 2025) EllapsedTime: 50.7 seconds RetCode: 0 Status: OK