Package: PepSetTest Version: 1.4.0 Command: /Library/Frameworks/R.framework/Resources/bin/R CMD INSTALL PepSetTest StartedAt: 2025-11-09 15:15:47 -0500 (Sun, 09 Nov 2025) EndedAt: 2025-11-09 15:15:48 -0500 (Sun, 09 Nov 2025) EllapsedTime: 1.6 seconds RetCode: 0 Status: OK