Package: PepSetTest Version: 1.4.0 Command: rm -rf PepSetTest.buildbin-libdir && mkdir PepSetTest.buildbin-libdir && /Users/biocbuild/BBS/utils/build-universal.sh PepSetTest_1.4.0.tar.gz /Library/Frameworks/R.framework/Resources/bin/R PepSetTest.buildbin-libdir StartedAt: 2025-11-09 23:18:57 -0500 (Sun, 09 Nov 2025) EndedAt: 2025-11-09 23:18:59 -0500 (Sun, 09 Nov 2025) EllapsedTime: 2.0 seconds RetCode: 0 Status: OK PackageFile: PepSetTest_1.4.0.tgz PackageFileSize: 305.3 KiB