Package: PathNet Version: 1.50.0 Command: /Library/Frameworks/R.framework/Resources/bin/R CMD build --keep-empty-dirs --no-resave-data PathNet StartedAt: 2025-11-03 18:10:49 -0500 (Mon, 03 Nov 2025) EndedAt: 2025-11-03 18:12:33 -0500 (Mon, 03 Nov 2025) EllapsedTime: 103.6 seconds RetCode: 0 Status: OK PackageFile: PathNet_1.50.0.tar.gz PackageFileSize: 823.1 KiB