Package: PathNet Version: 1.50.0 Command: /Library/Frameworks/R.framework/Resources/bin/R CMD build --keep-empty-dirs --no-resave-data PathNet StartedAt: 2025-11-06 17:18:25 -0500 (Thu, 06 Nov 2025) EndedAt: 2025-11-06 17:18:50 -0500 (Thu, 06 Nov 2025) EllapsedTime: 25.2 seconds RetCode: 0 Status: OK PackageFile: PathNet_1.50.0.tar.gz PackageFileSize: 823.9 KiB