Package: PathNet Version: 1.50.0 Command: rm -rf PathNet.buildbin-libdir && mkdir PathNet.buildbin-libdir && /Users/biocbuild/BBS/utils/build-universal.sh PathNet_1.50.0.tar.gz /Library/Frameworks/R.framework/Resources/bin/R PathNet.buildbin-libdir StartedAt: 2025-11-06 23:15:48 -0500 (Thu, 06 Nov 2025) EndedAt: 2025-11-06 23:15:50 -0500 (Thu, 06 Nov 2025) EllapsedTime: 2.0 seconds RetCode: 0 Status: OK PackageFile: PathNet_1.50.0.tgz PackageFileSize: 329.3 KiB