Package: PathNet Version: 1.50.0 Command: /Library/Frameworks/R.framework/Resources/bin/R CMD INSTALL PathNet StartedAt: 2025-11-17 16:46:38 -0500 (Mon, 17 Nov 2025) EndedAt: 2025-11-17 16:46:39 -0500 (Mon, 17 Nov 2025) EllapsedTime: 1.0 seconds RetCode: 0 Status: OK